BEGIN:VCALENDAR
VERSION:2.0
PRODID:SchoolNow
CALSCALE:GREGORIAN
BEGIN:VEVENT
UID:4029da2a-51a0-11ee-92cf-0a58a9feac02
DTSTAMP:20240319T175822Z
SUMMARY:CDD Board Meeting - Mar. 2024 (Cancelled)
LOCATION:SpringHill Suites by Marriott Bradenton Downtown/Riverfront locate
 d at 102 12th Street West\, Bradenton\, Florida 34205
URL;VALUE=URI:https://www.curiositycreekcdd.com/calendar/4723486/cdd-board-
 meeting-mar-2024
DTSTART:20240326T220000Z
DTEND:20240326T230000Z
END:VEVENT
END:VCALENDAR
