BEGIN:VCALENDAR
VERSION:2.0
PRODID:SchoolNow
CALSCALE:GREGORIAN
BEGIN:VEVENT
UID:4a115842-51a0-11ee-82cd-02d0a1be511f
DTSTAMP:20240416T230149Z
SUMMARY:CDD Board Meeting - Apr. 2024
LOCATION:SpringHill Suites by Marriott Bradenton Downtown/Riverfront locate
 d at 102 12th Street West\, Bradenton\, Florida 34205
URL;VALUE=URI:https://www.curiositycreekcdd.com/calendar/4723487/cdd-board-
 meeting-apr-2024
DTSTART:20240423T220000Z
DTEND:20240423T230000Z
ATTACH;FILENAME=2024-04-23 Curiosity Creek Agenda.pdf;FMTTYPE=application/p
 df:https://campussuite-storage.s3.amazonaws.com/prod/1559132/a09bdfca-f70b
 -11ec-b86b-0e216979ff5f/2772072/3c93cdb2-fc45-11ee-9392-0affdac7174f/file/
 2024-04-23 Curiosity Creek Agenda.pdf
END:VEVENT
END:VCALENDAR
