BEGIN:VCALENDAR
VERSION:2.0
PRODID:SchoolNow
CALSCALE:GREGORIAN
BEGIN:VEVENT
UID:55cd622a-51a0-11ee-932b-0a58a9feac02
DTSTAMP:20240521T232748Z
SUMMARY:CDD Board Meeting - May 2024
LOCATION:SpringHill Suites by Marriott Bradenton Downtown/Riverfront locate
 d at 102 12th Street West\, Bradenton\, Florida 34205
URL;VALUE=URI:https://www.curiositycreekcdd.com/calendar/4723488/cdd-board-
 meeting-may-2024
DTSTART:20240528T220000Z
DTEND:20240528T230000Z
ATTACH;FILENAME=2024-05-28 Curiosity Creek Agenda.pdf;FMTTYPE=application/p
 df:https://campussuite-storage.s3.amazonaws.com/prod/1559132/a09bdfca-f70b
 -11ec-b86b-0e216979ff5f/2792402/f1c93956-17c5-11ef-a900-0a58a9feac02/file/
 2024-05-28 Curiosity Creek Agenda.pdf
END:VEVENT
END:VCALENDAR
