BEGIN:VCALENDAR
VERSION:2.0
PRODID:SchoolNow
CALSCALE:GREGORIAN
BEGIN:VEVENT
UID:608afa92-51a0-11ee-aa0a-0a58a9feac02
DTSTAMP:20240618T193950Z
SUMMARY:CDD Board Meeting - Jun. 2024
LOCATION:SpringHill Suites by Marriott Bradenton Downtown/Riverfront locate
 d at 102 12th Street West\, Bradenton\, Florida 34205
URL;VALUE=URI:https://www.curiositycreekcdd.com/calendar/4723489/cdd-board-
 meeting-jun-2024
DTSTART:20240625T220000Z
DTEND:20240625T230000Z
ATTACH;FILENAME=2024-06-25 Curiosity Creek Agenda.pdf;FMTTYPE=application/p
 df:https://campussuite-storage.s3.amazonaws.com/prod/1559132/a09bdfca-f70b
 -11ec-b86b-0e216979ff5f/2809606/72d117c2-2daa-11ef-a357-0a58a9feac02/file/
 2024-06-25 Curiosity Creek Agenda.pdf
END:VEVENT
END:VCALENDAR
