BEGIN:VCALENDAR
VERSION:2.0
PRODID:SchoolNow
CALSCALE:GREGORIAN
BEGIN:VEVENT
UID:6d43b01c-51a0-11ee-bfb8-0a58a9feac02
DTSTAMP:20240716T202228Z
SUMMARY:CDD Board Meeting - Jul. 2024
LOCATION:SpringHill Suites by Marriott Bradenton Downtown/Riverfront locate
 d at 102 12th Street West\, Bradenton\, Florida 34205
URL;VALUE=URI:https://www.curiositycreekcdd.com/calendar/4723490/cdd-board-
 meeting-jul-2024
DTSTART:20240723T220000Z
DTEND:20240723T230000Z
ATTACH;FILENAME=2024-07-23 Curiosity Creek Agenda.pdf;FMTTYPE=application/p
 df:https://campussuite-storage.s3.amazonaws.com/prod/1559132/a09bdfca-f70b
 -11ec-b86b-0e216979ff5f/2819240/15779aac-43b1-11ef-aabd-0afff631acdd/file/
 2024-07-23 Curiosity Creek Agenda.pdf
END:VEVENT
END:VCALENDAR
