BEGIN:VCALENDAR
VERSION:2.0
PRODID:SchoolNow
CALSCALE:GREGORIAN
BEGIN:VEVENT
UID:7892374a-51a0-11ee-a6b8-0a58a9feac02
DTSTAMP:20240820T220904Z
SUMMARY:CDD Board Meeting - Aug. 2024
LOCATION:SpringHill Suites by Marriott Bradenton Downtown/Riverfront locate
 d at 102 12th Street West\, Bradenton\, Florida 34205
URL;VALUE=URI:https://www.curiositycreekcdd.com/calendar/4723491/cdd-board-
 meeting-aug-2024
DTSTART:20240827T220000Z
DTEND:20240827T230000Z
ATTACH;FILENAME=2024-08-27 Curiosity Creek Agenda.pdf;FMTTYPE=application/p
 df:https://campussuite-storage.s3.amazonaws.com/prod/1559132/a09bdfca-f70b
 -11ec-b86b-0e216979ff5f/2833850/98c96d5e-5f40-11ef-ae40-0afff9476379/file/
 2024-08-27 Curiosity Creek Agenda.pdf
END:VEVENT
END:VCALENDAR
