BEGIN:VCALENDAR
VERSION:2.0
PRODID:SchoolNow
CALSCALE:GREGORIAN
BEGIN:VEVENT
UID:865f3652-51a0-11ee-a81d-0ebfe81b7035
DTSTAMP:20240917T205626Z
SUMMARY:CDD Board Meeting - Sept. 2024 (Cancelled)
LOCATION:SpringHill Suites by Marriott Bradenton Downtown/Riverfront locate
 d at 102 12th Street West\, Bradenton\, Florida 34205
URL;VALUE=URI:https://www.curiositycreekcdd.com/calendar/4723492/cdd-board-
 meeting-sept-2024
DTSTART:20240924T220000Z
DTEND:20240924T230000Z
END:VEVENT
END:VCALENDAR
