BEGIN:VCALENDAR
VERSION:2.0
PRODID:SchoolNow
CALSCALE:GREGORIAN
BEGIN:VEVENT
UID:e0a804cc-7cec-11ef-84fb-0affcb6e65f5
DTSTAMP:20241022T021525Z
SUMMARY:CDD Board Meeting - Oct. 2024
LOCATION:SpringHill Suites by Marriott Bradenton Downtown/Riverfront locate
 d at 102 12th Street West\, Bradenton\, Florida 34205
URL;VALUE=URI:https://www.curiositycreekcdd.com/calendar/6704758/cdd-board-
 meeting-oct-2024
DTSTART:20241028T220000Z
DTEND:20241028T230000Z
ATTACH;FILENAME=2024-10-28 Curiosity Creek Agenda.pdf;FMTTYPE=application/p
 df:https://campussuite-storage.s3.amazonaws.com/prod/1559132/a09bdfca-f70b
 -11ec-b86b-0e216979ff5f/2866160/5dce155e-901b-11ef-9808-0afff6282a63/file/
 2024-10-28 Curiosity Creek Agenda.pdf
END:VEVENT
END:VCALENDAR
