BEGIN:VCALENDAR
VERSION:2.0
PRODID:SchoolNow
CALSCALE:GREGORIAN
BEGIN:VEVENT
UID:e93e38b8-7cec-11ef-abe6-0afffc5e2b39
DTSTAMP:20241114T174648Z
SUMMARY:CDD Board Meeting - Nov. 2024 (Cancelled)
LOCATION:SpringHill Suites by Marriott Bradenton Downtown/Riverfront locate
 d at 102 12th Street West\, Bradenton\, Florida 34205
URL;VALUE=URI:https://www.curiositycreekcdd.com/calendar/6704759/cdd-board-
 meeting-nov-2024
DTSTART:20241126T230000Z
DTEND:20241127T000000Z
END:VEVENT
END:VCALENDAR
