BEGIN:VCALENDAR
VERSION:2.0
PRODID:SchoolNow
CALSCALE:GREGORIAN
BEGIN:VEVENT
UID:f1d9b57e-7cec-11ef-abc9-0affcb6e65f5
DTSTAMP:20241213T184254Z
SUMMARY:CDD Board Meeting - Dec. 2024 (Cancelled)
LOCATION:SpringHill Suites by Marriott Bradenton Downtown/Riverfront locate
 d at 102 12th Street West\, Bradenton\, Florida 34205
URL;VALUE=URI:https://www.curiositycreekcdd.com/calendar/6704760/cdd-board-
 meeting-dec-2024
DTSTART:20241224T230000Z
DTEND:20241225T000000Z
END:VEVENT
END:VCALENDAR
