BEGIN:VCALENDAR
VERSION:2.0
PRODID:SchoolNow
CALSCALE:GREGORIAN
BEGIN:VEVENT
UID:fcd5bd92-7cec-11ef-bf17-02e4a6b9cd8d
DTSTAMP:20250122T002933Z
SUMMARY:CDD Board Meeting - Jan. 2025
LOCATION:SpringHill Suites by Marriott Bradenton Downtown/Riverfront locate
 d at 102 12th Street West\, Bradenton\, Florida 34205
URL;VALUE=URI:https://www.curiositycreekcdd.com/calendar/6704761/cdd-board-
 meeting-jan-2025
DTSTART:20250128T230000Z
DTEND:20250129T000000Z
ATTACH;FILENAME=2025-01-28 Curiosity Creek Agenda.pdf;FMTTYPE=application/p
 df:https://campussuite-storage.s3.amazonaws.com/prod/1559132/a09bdfca-f70b
 -11ec-b86b-0e216979ff5f/2905374/ea06f66a-d857-11ef-8992-0258718cc243/file/
 2025-01-28 Curiosity Creek Agenda.pdf
END:VEVENT
END:VCALENDAR
