BEGIN:VCALENDAR
VERSION:2.0
PRODID:SchoolNow
CALSCALE:GREGORIAN
BEGIN:VEVENT
UID:05f59708-7ced-11ef-9840-0a58a9feac02
DTSTAMP:20250225T153022Z
SUMMARY:CDD Board Meeting - Feb. 2025
LOCATION:SpringHill Suites by Marriott Bradenton Downtown/Riverfront locate
 d at 102 12th Street West\, Bradenton\, Florida 34205
URL;VALUE=URI:https://www.curiositycreekcdd.com/calendar/6704762/cdd-board-
 meeting-feb-2025
DTSTART:20250225T230000Z
DTEND:20250226T000000Z
ATTACH;FILENAME=2025-02-25 Curiosity Creek Agenda (1).pdf;FMTTYPE=applicati
 on/pdf:https://campussuite-storage.s3.amazonaws.com/prod/1559132/a09bdfca-
 f70b-11ec-b86b-0e216979ff5f/2919061/672c523e-f38d-11ef-bc44-028c56d2ff2d/f
 ile/2025-02-25 Curiosity Creek Agenda (1).pdf
END:VEVENT
END:VCALENDAR
