BEGIN:VCALENDAR
VERSION:2.0
PRODID:SchoolNow
CALSCALE:GREGORIAN
BEGIN:VEVENT
UID:0ecc650a-7ced-11ef-9f5a-0a58a9feac02
DTSTAMP:20250318T235827Z
SUMMARY:CDD Board Meeting - Mar. 2025
LOCATION:SpringHill Suites by Marriott Bradenton Downtown/Riverfront locate
 d at 102 12th Street West\, Bradenton\, Florida 34205
URL;VALUE=URI:https://www.curiositycreekcdd.com/calendar/6704763/cdd-board-
 meeting-mar-2025
DTSTART:20250325T220000Z
DTEND:20250325T230000Z
ATTACH;FILENAME=2025-03-25 Curiosity Creek Agenda.pdf;FMTTYPE=application/p
 df:https://campussuite-storage.s3.amazonaws.com/prod/1559132/a09bdfca-f70b
 -11ec-b86b-0e216979ff5f/2929263/dcc177fe-0454-11f0-8494-0afff67e568d/file/
 2025-03-25 Curiosity Creek Agenda.pdf
END:VEVENT
END:VCALENDAR
