BEGIN:VCALENDAR
VERSION:2.0
PRODID:SchoolNow
CALSCALE:GREGORIAN
BEGIN:VEVENT
UID:17a94544-7ced-11ef-9d65-0a58a9feac02
DTSTAMP:20250415T230511Z
SUMMARY:CDD Board Meeting - Apr. 2025
LOCATION:SpringHill Suites by Marriott Bradenton Downtown/Riverfront locate
 d at 102 12th Street West\, Bradenton\, Florida 34205
URL;VALUE=URI:https://www.curiositycreekcdd.com/calendar/6704764/cdd-board-
 meeting-apr-2025
DTSTART:20250422T220000Z
DTEND:20250422T230000Z
ATTACH;FILENAME=2025-04-22 Curiosity Creek Agenda.pdf;FMTTYPE=application/p
 df:https://campussuite-storage.s3.amazonaws.com/prod/1559132/a09bdfca-f70b
 -11ec-b86b-0e216979ff5f/2941188/fdcdf4b8-1a4d-11f0-816c-0a58a9feac02/file/
 2025-04-22 Curiosity Creek Agenda.pdf
END:VEVENT
END:VCALENDAR
