BEGIN:VCALENDAR
VERSION:2.0
PRODID:SchoolNow
CALSCALE:GREGORIAN
BEGIN:VEVENT
UID:21adeef0-7ced-11ef-9cb8-0a58a9feac02
DTSTAMP:20250521T031153Z
SUMMARY:CDD Board Meeting - May 2025
LOCATION:SpringHill Suites by Marriott Bradenton Downtown/Riverfront locate
 d at 102 12th Street West\, Bradenton\, Florida 34205
URL;VALUE=URI:https://www.curiositycreekcdd.com/calendar/6704765/cdd-board-
 meeting-may-2025
DTSTART:20250527T220000Z
DTEND:20250527T230000Z
ATTACH;FILENAME=2025-05-27 Curiosity Creek Agenda.pdf;FMTTYPE=application/p
 df:https://campussuite-storage.s3.amazonaws.com/prod/1559132/a09bdfca-f70b
 -11ec-b86b-0e216979ff5f/2956828/f9ccde7a-35ef-11f0-94c8-0279441061a1/file/
 2025-05-27 Curiosity Creek Agenda.pdf
END:VEVENT
END:VCALENDAR
