BEGIN:VCALENDAR
VERSION:2.0
PRODID:SchoolNow
CALSCALE:GREGORIAN
BEGIN:VEVENT
UID:620f0748-a2b0-11ef-8cf9-0affe98dd9d3
DTSTAMP:20241114T214445Z
SUMMARY:Landowner's Election - Nov. 2024
LOCATION:SpringHill Suites by Marriott Bradenton Downtown/Riverfront locate
 d at 102 12th Street West\, Bradenton\, Florida 34205
URL;VALUE=URI:https://www.curiositycreekcdd.com/calendar/7020637/landowners
 -election-nov-2024
DTSTART:20241126T230000Z
DTEND:20241127T000000Z
ATTACH;FILENAME=2024-11-26 Curiosity Creek Landowner's Election Agenda.pdf;
 FMTTYPE=application/pdf:https://campussuite-storage.s3.amazonaws.com/prod/
 1559132/a09bdfca-f70b-11ec-b86b-0e216979ff5f/2880152/96003a60-a2d1-11ef-8e
 23-0eebf884aedf/file/2024-11-26 Curiosity Creek Landowner's Election Agend
 a.pdf
ATTACH;FILENAME=Curiosity Creek CDD - Election Instructions and Ballot.pdf;
 FMTTYPE=application/pdf:https://campussuite-storage.s3.amazonaws.com/prod/
 1559132/a09bdfca-f70b-11ec-b86b-0e216979ff5f/2880153/9600b706-a2d1-11ef-b4
 a4-0eebf884aedf/file/Curiosity Creek CDD - Election Instructions and Ballo
 t.pdf
END:VEVENT
END:VCALENDAR
